BEGIN:VCALENDAR
VERSION:2.0
PRODID:-//eventon.com NONSGML v1.0//EN
CALSCALE:GREGORIAN
METHOD:PUBLISH
BEGIN:VEVENT
UID:69e5efd227558
DTSTAMP:20260420T092018Z
DTSTART:20260301T140000Z
DTEND:20260301T150000Z
LOCATION:St. Albert Goethestr. 5\,  89231 Neu-Ulm/Offenhausen
SUMMARY:abgesagt -Gott ist immer hier - Hits für die ganze Familie in Offenhausen
DESCRIPTION:mit Robert Haas (Piano) und Markus Kerber (Flöten und Saxophon
 e)\nhttps://robert-haas.de/events/gott-ist-immer-hier-hits-fuer-die-ganze-f
 amilie-in-offenhausen/
URL:https://robert-haas.de/events/gott-ist-immer-hier-hits-fuer-die-ganze-familie-in-offenhausen/
END:VEVENT
END:VCALENDAR