BEGIN:VCALENDAR
VERSION:2.0
PRODID:-//eventon.com NONSGML v1.0//EN
CALSCALE:GREGORIAN
METHOD:PUBLISH
BEGIN:VEVENT
UID:69e731d14d981
DTSTAMP:20260421T081409Z
DTSTART:20230706T100000Z
DTEND:20230706T110000Z
LOCATION:Basilika St. Ulrich und Afra Ulrichsplatz 19\,  86150 Augsburg
SUMMARY:Kindertagesstättenwallfahrt II im Rahmen der Ulrichswoche
DESCRIPTION:mit Markus Kerber (Flöten und Saxophone) und Robert Haas\nhttp
 s://robert-haas.de/events/kindertagesstaettenwallfahrt-ii-im-rahmen-der-ulr
 ichswoche/
URL:https://robert-haas.de/events/kindertagesstaettenwallfahrt-ii-im-rahmen-der-ulrichswoche/
END:VEVENT
END:VCALENDAR