BEGIN:VCALENDAR
VERSION:2.0
PRODID:-//eventon.com NONSGML v1.0//EN
CALSCALE:GREGORIAN
METHOD:PUBLISH
BEGIN:VEVENT
UID:69e6041f8769f
DTSTAMP:20260420T104655Z
DTSTART:20230312T150000Z
DTEND:20230312T160000Z
LOCATION:Herz-Jesu-Kirche\,  Fellheim Kirchweg 9\,  87748 Fellheim
SUMMARY:Klangreisen fÃ¼r die Seele in Fellheim
DESCRIPTION:Eine Stunde mit Texten und Musik zum TrÃ¤umen und Meditieren bi
 eten Markus Kerber (FlÃ¶ten\,  Saxophone und Klarinette) und Robert Haas (P
 iano) ihren ZuhÃ¶rern an. Eine Stunde\,  in der sie ihre traumhaften Melodi
 en u. a. aus den Bestseller-CDs â€žKlangreisenâ€œ\,  â€žKleine Tafelmusikâ€
 œ (KÃ¶sel-Verlag) und der neuen CD â€žKlangreisen 2â€œ (die fÃ¼r ein[..]\nh
 ttps://robert-haas.de/events/klangreisen-fuer-die-seele-in-vilgertshofen/
URL:https://robert-haas.de/events/klangreisen-fuer-die-seele-in-vilgertshofen/
END:VEVENT
END:VCALENDAR