BEGIN:VCALENDAR
VERSION:2.0
PRODID:-//eventon.com NONSGML v1.0//EN
CALSCALE:GREGORIAN
METHOD:PUBLISH
BEGIN:VEVENT
UID:69e61ab0058c0
DTSTAMP:20260420T122312Z
DTSTART:20220717T173000Z
DTEND:20220717T190000Z
LOCATION:Pfarrheim Türkheim
SUMMARY:Songs an einem Sommerabend
DESCRIPTION:Robert Haas lädt zum Mitsingen ein im Pfarrgarten in Türkheim
 . Neue Geistliche Lieder für alle\,  die gerne in Gemeinschaft singen.\nht
 tps://robert-haas.de/events/songs-an-einem-sommerabend-2/
URL:https://robert-haas.de/events/songs-an-einem-sommerabend-2/
END:VEVENT
END:VCALENDAR