BEGIN:VCALENDAR
VERSION:2.0
PRODID:-//eventon.com NONSGML v1.0//EN
CALSCALE:GREGORIAN
METHOD:PUBLISH
BEGIN:VEVENT
UID:69e62f010ef96
DTSTAMP:20260420T134953Z
DTSTART:20240221T080000Z
DTEND:20240221T160000Z
LOCATION:Neuss
SUMMARY:Gemeinsam bunt - das neue LeiGoLo - Tagung in Neuss (Bistum Köln)
DESCRIPTION:Eine Tagung für Fachleute\,  Multiplikatoren und Menschen\,  d
 ie gerne Musik machen „Erlebnisse mit dem LeiGoLo“ (Leichtes Gotteslob)
  Inklusion für Menschen mit Behinderung – das zeigt sich auch beim Thema
  Musik und Singen. Es gibt viele Barrieren für Menschen mit und ohne Behin
 derung: Unbekannte Lieder\,  schwere Lieder\,  schwere Liedtexte und schwer
 e[..]\nhttps://robert-haas.de/events/gemeinsam-bunt-das-neue-leigolo-tagung
 -in-coesfeld-bistum-muenster/
URL:https://robert-haas.de/events/gemeinsam-bunt-das-neue-leigolo-tagung-in-coesfeld-bistum-muenster/
END:VEVENT
END:VCALENDAR