BEGIN:VCALENDAR
VERSION:2.0
PRODID:-//eventon.com NONSGML v1.0//EN
CALSCALE:GREGORIAN
METHOD:PUBLISH
BEGIN:VEVENT
UID:69e642d7e5fad
DTSTAMP:20260420T151431Z
DTSTART:20230613T070000Z
DTEND:20230614T110000Z
LOCATION:Wilhelm-Kempf-Haus
SUMMARY:Gemeinsam bunt - das neue LeiGoLo - Tagung in Wiesbaden (Bistum Limburg)
DESCRIPTION:Eine Tagung für Fachleute\,  Multiplikatoren und Menschen\,  d
 ie gerne Musik machen „Erlebnisse mit dem LeiGoLo“ (Leichtes Gotteslob)
  Inklusion für Menschen mit Behinderung – das zeigt sich auch beim Thema
  Musik und Singen. Es gibt viele Barrieren für Menschen mit und ohne Behin
 derung: Unbekannte Lieder\,  schwere Lieder\,  schwere Liedtexte und schwer
 e[..]\nhttps://robert-haas.de/events/gemeinsam-bunt-das-neue-leigolo-tagung
 -in-wiesbaden-bistum-limburg/
URL:https://robert-haas.de/events/gemeinsam-bunt-das-neue-leigolo-tagung-in-wiesbaden-bistum-limburg/
END:VEVENT
END:VCALENDAR