BEGIN:VCALENDAR
VERSION:2.0
PRODID:-//eventon.com NONSGML v1.0//EN
CALSCALE:GREGORIAN
METHOD:PUBLISH
BEGIN:VEVENT
UID:69e65778b64a7
DTSTAMP:20260420T164232Z
DTSTART:20231122T010000Z
DTEND:20231122T040000Z
LOCATION:Pfarrzentrum Mariä Himmelfahrt Memmingen Augsburger Str. 14\,  87700 Memmingen
SUMMARY:Du und ich im bunten Jahr - das neue Kinderliederbuch - Fortbildung für MitarbeiterInnen in Kitas in Memmingen
DESCRIPTION:Neue Ideen und Vorschläge von Erzieherinnen hat Robert Haas in
  einem neuen Buch zum Jahreskreis nun umgesetzt. Lieder zum Ruhigwerden\,  
 Aufräumen\,  für Sommerfest und Lagerfeuer finden sich darin ebenso wie e
 in Lied für Oma und Opa oder ein englisches &#8222;Guten-Morgen-Lied&#8220
 ;. Aber auch Themen wie &#8222;Geschwisterkonflikt&#8220;\,  Trauer oder di
 e Angst sich[..]\nhttps://robert-haas.de/events/du-und-ich-im-bunten-jahr-d
 as-neue-kinderliederbuch-fortbildung-fuer-mitarbeiterinnen-in-kitas-in-weil
 heim/
URL:https://robert-haas.de/events/du-und-ich-im-bunten-jahr-das-neue-kinderliederbuch-fortbildung-fuer-mitarbeiterinnen-in-kitas-in-weilheim/
END:VEVENT
END:VCALENDAR