BEGIN:VCALENDAR
VERSION:2.0
PRODID:-//eventon.com NONSGML v1.0//EN
CALSCALE:GREGORIAN
METHOD:PUBLISH
BEGIN:VEVENT
UID:69e683d22838c
DTSTAMP:20260420T195146Z
DTSTART:20230316T180000Z
DTEND:20230316T200000Z
LOCATION:Haus der Begegnung\,  Weißenhorn Claretinerstr. 3\,  89264 Weißenhorn
SUMMARY:Canta con me! - Sing mit mir! - in Weißenhorn
DESCRIPTION:Canta con me! &#8211; Sing mit mir! Ein Liederworkshop mit Lied
 ermacher Robert Haas und Bernhard Lämmle (Oboe) Robert Haas lädt alle ein
 \,  die gerne Neue Geistliche Lieder aus seiner Feder singen und kennenlern
 en möchten &#8211; oder auch einfach nur zuhören. Zahlreiche Songs sind i
 n unterschiedlichen Publikationen erschienen. U. a. stellt[..]\nhttps://rob
 ert-haas.de/events/canta-con-me-sing-mit-mir-in-weissenhorn/
URL:https://robert-haas.de/events/canta-con-me-sing-mit-mir-in-weissenhorn/
END:VEVENT
END:VCALENDAR