BEGIN:VCALENDAR
VERSION:2.0
PRODID:-//eventon.com NONSGML v1.0//EN
CALSCALE:GREGORIAN
METHOD:PUBLISH
BEGIN:VEVENT
UID:69e69af8aadc1
DTSTAMP:20260420T213032Z
DTSTART:20210413T173000Z
DTEND:20210413T193000Z
LOCATION:
SUMMARY:Online-Liedertankstelle - Workshop mit Robert Haas
DESCRIPTION:Die Katholische Jugendstelle Donauwörth und das Seelsorgeamt d
 er Außenstelle bieten am 13. April in Zusammenarbeit mit Liedermacher Robe
 rt Haas einen Online-Workshop zum Thema „Neue Geistliche Lieder“ an. Li
 edermacher Robert Haas bietet den Workshop am 13. April 2021 online per Zoo
 m an. Der Link und die Lieder werden ein paar Tage[..]\nhttps://robert-haas
 .de/events/online-liedertankstelle-workshop-mit-robert-haas/
URL:https://robert-haas.de/events/online-liedertankstelle-workshop-mit-robert-haas/
END:VEVENT
END:VCALENDAR