BEGIN:VCALENDAR
VERSION:2.0
PRODID:-//eventon.com NONSGML v1.0//EN
CALSCALE:GREGORIAN
METHOD:PUBLISH
BEGIN:VEVENT
UID:69e6bfff4e85e
DTSTAMP:20260421T000831Z
DTSTART:20241006T081500Z
DTEND:20241006T091500Z
LOCATION:Herz Jesu\,  Fellheim Kirchweg 9\,  87748 Fellheim
SUMMARY:Franziskusmesse "Fra Francesco" zum Erntedanksonntag\,  Fellheim
DESCRIPTION:Franziskusmesse „Fra Francesco“ Am Erntedanksonntag werden 
 die Lieder der Franziskusmesse in einem Familiengottesdienst erklingen. Zum
  Kennenlernen der Lieder sind alle in die Kirche ab 10:00 Uhr herzlich eing
 eladen. Zur Messe gibt es einen Projektchor. Chorprojekt zum Erntedanksonnt
 ag in Fellheim Hier kann man bei einem einmaligen Projekt mitsingen! Robert
  Haas hat[..]\nhttps://robert-haas.de/events/franziskusmesse-fra-francesco-
 augsburg-univiertel-zum-guten-hirten/
URL:https://robert-haas.de/events/franziskusmesse-fra-francesco-augsburg-univiertel-zum-guten-hirten/
END:VEVENT
END:VCALENDAR