BEGIN:VCALENDAR
VERSION:2.0
PRODID:-//eventon.com NONSGML v1.0//EN
CALSCALE:GREGORIAN
METHOD:PUBLISH
BEGIN:VEVENT
UID:69e6d56a5660c
DTSTAMP:20260421T013954Z
DTSTART:20211010T150000Z
DTEND:20211010T163000Z
LOCATION:
SUMMARY:Uraufführung Franziskusmesse "Fra Francesco"\,  Kempten\,  St. Franziskus im livestream
DESCRIPTION:Die Uraufführung der Messe &#8222;Fra Francesco&#8220;\,  zu d
 er unser Bischof Dr. Bertram Meier nach Kempten kommt kann per Stream mitge
 feiert werden: Hier der Link des YouTube-Kanals der Kirchengemeinde St. Fra
 nziskus: https://www.youtube.com/watch?v=M3DeWcc4YXM\nhttps://robert-haas.d
 e/events/urauffuehrung-franziskusmesse-fra-francesco-kempten-st-franziskus/
URL:https://robert-haas.de/events/urauffuehrung-franziskusmesse-fra-francesco-kempten-st-franziskus/
END:VEVENT
END:VCALENDAR