BEGIN:VCALENDAR
VERSION:2.0
PRODID:-//eventon.com NONSGML v1.0//EN
CALSCALE:GREGORIAN
METHOD:PUBLISH
BEGIN:VEVENT
UID:69e6edff53b19
DTSTAMP:20260421T032447Z
DTSTART:20210418T120000Z
DTEND:20210418T150000Z
LOCATION:
SUMMARY:Digitalworkshop zum Chorprojekt "Fra Francesco"
DESCRIPTION:Franziskusmesse „Fra Francesco“ Chorprojekt zur diözesanen
  Familienwallfahrt nach Assisi Hier kann man bei einem einmaligen Projekt m
 itsingen! Robert Haas hat nach eigenen Texten und Texten von Georg Schwikar
 t diese neue Messe vertont. Sie soll zweimal in unserem Bistum erklingen un
 d einstimmen auf die Familienwallfahrt nach Assisi im Juni 2022.* Chorleitu
 ng[..]\nhttps://robert-haas.de/events/digitalworkshop-zum-chorprojekt-fra-f
 rancesco/
URL:https://robert-haas.de/events/digitalworkshop-zum-chorprojekt-fra-francesco/
END:VEVENT
END:VCALENDAR