BEGIN:VCALENDAR
VERSION:2.0
PRODID:-//eventon.com NONSGML v1.0//EN
CALSCALE:GREGORIAN
METHOD:PUBLISH
BEGIN:VEVENT
UID:69e705dd08258
DTSTAMP:20260421T050637Z
DTSTART:20231123T083000Z
DTEND:20231123T100000Z
LOCATION:Augsburg\,  Hoher Dom
SUMMARY:Gottesdienst der Caritas im Bistum Augsburg
DESCRIPTION:mit Bischof Dr. Bertram Meier und Verabschiedung von Caritasdir
 ektor Dr. Andreas Magg Musikalische Gestaltung: Robert Haas und Ensemble. H
 ier erklingt auch das Mottolied zum Jubiläumsjahr &#8222;Mensch sein für 
 Menschen&#8220;\nhttps://robert-haas.de/events/elisabeth-gottesdienst-100-j
 ahre-caritas-im-bistum-augsburg-2/
URL:https://robert-haas.de/events/elisabeth-gottesdienst-100-jahre-caritas-im-bistum-augsburg-2/
END:VEVENT
END:VCALENDAR