BEGIN:VCALENDAR
VERSION:2.0
PRODID:-//eventon.com NONSGML v1.0//EN
CALSCALE:GREGORIAN
METHOD:PUBLISH
BEGIN:VEVENT
UID:69e71c79528ab
DTSTAMP:20260421T064305Z
DTSTART:20220625T090000Z
DTEND:20220624T220000Z
LOCATION:Augsburg\,  Botanischer Garten
SUMMARY:Festakt 100 Jahre Caritas im Bistum Augsburg
DESCRIPTION:mit Bischof Dr. Bertram Meier Musikalische Gestaltung: Kammerop
 er Augsburg\,  Robert Haas und Ensemble. Hier erklingt auch das Mottolied z
 um Jubiläumsjahr &#8222;Mensch sein für Menschen&#8220;\nhttps://robert-h
 aas.de/events/elisabeth-gottesdienst-100-jahre-caritas-im-bistum-augsburg/
URL:https://robert-haas.de/events/elisabeth-gottesdienst-100-jahre-caritas-im-bistum-augsburg/
END:VEVENT
END:VCALENDAR