BEGIN:VCALENDAR
VERSION:2.0
PRODID:-//eventon.com NONSGML v1.0//EN
CALSCALE:GREGORIAN
METHOD:PUBLISH
BEGIN:VEVENT
UID:69e9dc988244a
DTSTAMP:20260423T084720Z
DTSTART:20210617T070000Z
DTEND:20210617T080000Z
LOCATION:Augsburg\,  Hoher Dom
SUMMARY:100 Jahre Caritas im Bistum Augsburg
DESCRIPTION:mit Bischof Dr. Bertram Meier Musikalische Gestaltung: Robert H
 aas und Ensemble. Hier erklingt auch das Mottolied zum Jubiläumsjahr &#822
 2;Mensch sein für Menschen&#8220;\nhttps://robert-haas.de/events/auftaktgo
 ttesdienst-100-jahre-caritas-im-bistum-augsburg/
URL:https://robert-haas.de/events/auftaktgottesdienst-100-jahre-caritas-im-bistum-augsburg/
END:VEVENT
END:VCALENDAR