BEGIN:VCALENDAR
VERSION:2.0
PRODID:-//eventon.com NONSGML v1.0//EN
CALSCALE:GREGORIAN
METHOD:PUBLISH
BEGIN:VEVENT
UID:69e759e909b81
DTSTAMP:20260421T110513Z
DTSTART:20220402T210000Z
DTEND:20220403T080000Z
LOCATION:Pfarrzentrum St. Josef der Arbeiter\,  Weidach  Eichenstraße 11\,  87471 Durach
SUMMARY:All das wünsch ich dir - überregionaler Chortag "Gesegnet" in Kempten-Weidach
DESCRIPTION:Wunsch- und Segenslieder (CD Gesegnet) aus der Feder von Lieder
 macher Robert Haas werden an diesem Tag mit allen\,  die gerne in Gemeinsch
 aft singen\,  einstudiert. Begleitet wird er von Stefan Nerf (Amt für Kirc
 henmusik)\,  Anna Haas (Violine)\,  Diana Brüheim und Markus Kerber. Diana
  Brüheim studierte in Weimar Diplom-Operngesang und machte das[..]\nhttps:
 //robert-haas.de/events/all-das-wuensch-ich-dir-ueberregionaler-chortag-ges
 egnet-in-kempten-weidach-2/
URL:https://robert-haas.de/events/all-das-wuensch-ich-dir-ueberregionaler-chortag-gesegnet-in-kempten-weidach-2/
END:VEVENT
END:VCALENDAR