BEGIN:VCALENDAR
VERSION:2.0
PRODID:-//eventon.com NONSGML v1.0//EN
CALSCALE:GREGORIAN
METHOD:PUBLISH
BEGIN:VEVENT
UID:69e770f6ac3b1
DTSTAMP:20260421T124334Z
DTSTART:20220528T073000Z
DTEND:20220528T133000Z
LOCATION:Basilika und Kloster
SUMMARY:Große Erstkommunionwallfahrt
DESCRIPTION:&nbsp; &nbsp; &nbsp; &nbsp; &nbsp; &nbsp; &nbsp; Die Ehe- und F
 amilienseelsorge der Außenstelle Memmingen lädt wieder zur Erstkommunionw
 allfahrt ein. Eingeladen sind alle Familien mit einem Erstkommunionkind. Wa
 llfahrt im Kurpark mit fünf Stationen\,  dann Gottesdienst in der Basilika
  mit Abt Johannes. Anschließend Mittagessen und viele Spielangebote. Absch
 luss mit Segen wieder in[..]\nhttps://robert-haas.de/events/7-grosse-erstko
 mmunionwallfahrt/
URL:https://robert-haas.de/events/7-grosse-erstkommunionwallfahrt/
END:VEVENT
END:VCALENDAR