BEGIN:VCALENDAR
VERSION:2.0
PRODID:-//eventon.com NONSGML v1.0//EN
CALSCALE:GREGORIAN
METHOD:PUBLISH
BEGIN:VEVENT
UID:69e784f8ddf13
DTSTAMP:20260421T140856Z
DTSTART:20240312T080000Z
DTEND:20240312T153000Z
LOCATION:Kloster Weltenburg - Gästehaus St. Georg
SUMMARY:Zeit für mich - mit Wort und Musik der Seele etwas Gutes tun - Besinnungstag für MitarbeiterInnen in Kitas in Regensburg
DESCRIPTION:Igor Strawinsky sagte einmal: „Ich habe keine Zeit mich zu be
 eilen.“ Ein toller Spruch\,  den wir uns eingerahmt überall aufhängen s
 ollten\,  wo es nötig ist. Es darf langsam gehen in unserem Leben. Durch 
 die vielen technischen Möglichkeiten sind wir heutzutage viel schneller dr
 an als noch vor ein paar Jahrzehnten. Überlegen wir[..]\nhttps://robert-ha
 as.de/events/zeit-fuer-mich-mit-wort-und-musik-der-seele-etwas-gutes-tun-be
 sinnungstag-fuer-mitarbeiterinnen-in-kitas-in-regensburg/
URL:https://robert-haas.de/events/zeit-fuer-mich-mit-wort-und-musik-der-seele-etwas-gutes-tun-besinnungstag-fuer-mitarbeiterinnen-in-kitas-in-regensburg/
END:VEVENT
END:VCALENDAR