BEGIN:VCALENDAR
VERSION:2.0
PRODID:-//eventon.com NONSGML v1.0//EN
CALSCALE:GREGORIAN
METHOD:PUBLISH
BEGIN:VEVENT
UID:69e79c2d3a2f4
DTSTAMP:20260421T154757Z
DTSTART:20200516T110000Z
DTEND:20200516T114500Z
LOCATION:Familienzentrum - Turnhalle St. Ursula Donauwörth
SUMMARY:Bei uns das ist was los - ökum. Kirchentag Donauwörth
DESCRIPTION:„Bei uns da ist was los&#8230;.“ mit Hits für Kids und die
  ganze Familie. Der bekannte Kinderliedermacher Robert Haas und sein profes
 sionelles Ensemble laden ein zum Mitsingen und Mitmachen. Ganz viel Spaß i
 st garantiert! Herzliche Einladung ins Familienzentrum des Kirchentages!\nh
 ttps://robert-haas.de/events/bei-uns-das-ist-was-los-oekum-kirchentag-donau
 woerth-2/
URL:https://robert-haas.de/events/bei-uns-das-ist-was-los-oekum-kirchentag-donauwoerth-2/
END:VEVENT
END:VCALENDAR