BEGIN:VCALENDAR
VERSION:2.0
PRODID:-//eventon.com NONSGML v1.0//EN
CALSCALE:GREGORIAN
METHOD:PUBLISH
BEGIN:VEVENT
UID:69e7c5b06099c
DTSTAMP:20260421T184504Z
DTSTART:20200712T120000Z
DTEND:20200712T140000Z
LOCATION:
SUMMARY:Bei uns das ist was los
DESCRIPTION:Zum 75-jährigen Kindergartenjubiläum singt Robert Haas mit de
 n Kindern Hits für Kids. Begleitet wird er von Markus Kerber\,  Anna Haas 
 und Jonathan Thum.\nhttps://robert-haas.de/events/bei-uns-das-ist-was-los/
URL:https://robert-haas.de/events/bei-uns-das-ist-was-los/
END:VEVENT
END:VCALENDAR