BEGIN:VCALENDAR
VERSION:2.0
PRODID:-//eventon.com NONSGML v1.0//EN
CALSCALE:GREGORIAN
METHOD:PUBLISH
BEGIN:VEVENT
UID:69e7dd06e3528
DTSTAMP:20260421T202438Z
DTSTART:20200301T160000Z
DTEND:20200301T170000Z
LOCATION:St. Salvator\,  NÃ¶rdlingen SalvatorgÃ¤ÃŸchen 2\,  86720 NÃ¶rdlingen
SUMMARY:Klangreisen fÃ¼r die Seele in NÃ¶rdlingen
DESCRIPTION:Eine Stunde mit Texten und Musik zum TrÃ¤umen und Meditieren bi
 eten Markus Kerber (FlÃ¶ten\,  Saxophone und Klarinette) und Robert Haas (P
 iano) ihren ZuhÃ¶rern an. Eine Stunde\,  in der sie ihre traumhaften Melodi
 en u. a. aus den Bestseller-CDs â€žKlangreisenâ€œ\,  â€žKleine Tafelmusikâ€
 œ (KÃ¶sel-Verlag) und der neuen CD â€žKlangreisen 2â€œ (die fÃ¼r ein[..]\nh
 ttps://robert-haas.de/events/klangreisen-fuer-die-seele-in-noerdlingen/
URL:https://robert-haas.de/events/klangreisen-fuer-die-seele-in-noerdlingen/
END:VEVENT
END:VCALENDAR