BEGIN:VCALENDAR
VERSION:2.0
PRODID:-//eventon.com NONSGML v1.0//EN
CALSCALE:GREGORIAN
METHOD:PUBLISH
BEGIN:VEVENT
UID:69e7f16d02553
DTSTAMP:20260421T215141Z
DTSTART:20220313T150000Z
DTEND:20220313T160000Z
LOCATION:St. Afra\,  Betzigau KirchstraÃŸe 2\,  87488 Betzigau
SUMMARY:Klangreisen fÃ¼r die Seele in Betzigau
DESCRIPTION:Eine Stunde mit Texten und Musik zum TrÃ¤umen und Meditieren bi
 eten Markus Kerber (FlÃ¶ten\,  Saxophone und Klarinette) und Robert Haas (P
 iano) ihren ZuhÃ¶rern an. Eine Stunde\,  in der sie ihre traumhaften Melodi
 en u. a. aus den Bestseller-CDs â€žKlangreisenâ€œ\,  â€žKleine Tafelmusikâ€
 œ (KÃ¶sel-Verlag) und der neuen CD â€žKlangreisen 2â€œ (die fÃ¼r ein[..]\nh
 ttps://robert-haas.de/events/klangreisen-fuer-die-seele-in-betzigau/
URL:https://robert-haas.de/events/klangreisen-fuer-die-seele-in-betzigau/
END:VEVENT
END:VCALENDAR