BEGIN:VCALENDAR
VERSION:2.0
PRODID:-//eventon.com NONSGML v1.0//EN
CALSCALE:GREGORIAN
METHOD:PUBLISH
BEGIN:VEVENT
UID:69e80731d116f
DTSTAMP:20260421T232433Z
DTSTART:20200815T180000Z
DTEND:20200815T190000Z
LOCATION:Wieskirche Wies 12\,  86989 Steingaden
SUMMARY:Klangreisen für die Seele in der Wieskirche (Steingaden)
DESCRIPTION:Eine Stunde mit Texten und Musik zum Träumen und Meditieren bi
 eten Markus Kerber (Flöten\,  Saxophone und Klarinette) und Robert Haas (P
 iano) am Fest Mariä Himmelfahrt ihren Zuhörern an. Und dies in einer der 
 schönsten Kirchen. Eine Stunde\,  in der sie ihre traumhaften Melodien u. 
 a. aus den Bestseller-CDs „Klangreisen“\,  „Kleine[..]\nhttps://rober
 t-haas.de/events/klangreisen-fuer-die-seele-in-der-wieskirche-steingaden/
URL:https://robert-haas.de/events/klangreisen-fuer-die-seele-in-der-wieskirche-steingaden/
END:VEVENT
END:VCALENDAR