BEGIN:VCALENDAR
VERSION:2.0
PRODID:-//eventon.com NONSGML v1.0//EN
CALSCALE:GREGORIAN
METHOD:PUBLISH
BEGIN:VEVENT
UID:69e8337324c96
DTSTAMP:20260422T023323Z
DTSTART:20210918T070000Z
DTEND:20210918T160000Z
LOCATION:Kloster St. Joseph in Neumarkt Wildbad 1
SUMMARY:Holyphon-Workshop im Bistum Eichstätt
DESCRIPTION:Lieder aus der Werkstatt von Robert Haas\,  u. a. Chorsätze au
 s den Produktionen &#8222;Gesegnet&#8220; und den beiden neuen Messen &#822
 2;Du lädst uns ein&#8220; und &#8222;Und aufs Neue&#8220;. Daneben weitere
  Lieder und Kinderlieder für den Einsatz in Chören\,  Gemeinden und Schul
 en. Liedbegleittechniken für Flöte\,  Percussion\,  Streicher\,  Keyboard
 \,  Blechbläser und Gitarre vermittelt[..]\nhttps://robert-haas.de/events/
 holyphon-workshop-im-bistum-eichstaett/
URL:https://robert-haas.de/events/holyphon-workshop-im-bistum-eichstaett/
END:VEVENT
END:VCALENDAR