BEGIN:VCALENDAR
VERSION:2.0
PRODID:-//eventon.com NONSGML v1.0//EN
CALSCALE:GREGORIAN
METHOD:PUBLISH
BEGIN:VEVENT
UID:69e8344f3f1ff
DTSTAMP:20260422T023703Z
DTSTART:20200514T160000Z
DTEND:20200514T170000Z
LOCATION:Klosterkirche der barmherzigen Schwestern\,  Augsburg Gögginger Str. 94
SUMMARY:"gestärkt - befreit - begeistert" - Lieder und Texte zum Leben der hl. Luise (Erstaufführung) - Termin wird verlegt
DESCRIPTION:Zum Jubiläum der hl. Luise findet im Kloster der barmherzigen 
 Schwestern in Augsburg die Uraufführung von einem Liederzyklus statt\,  de
 r inhaltlich an das Leben der Ordensfrau erinnert. Mit im Esemble von Rober
 t Haas sind Diana Brühheim (Sologesang)\,  Markus Kerber (Flöten\,  Saxop
 hone)\,  Anna Haas (Violine). Gestaltet werden die mehrstimmigen Lieder von
 [..]\nhttps://robert-haas.de/events/gestaerkt-befreit-begeistert-lieder-und
 -texte-zum-leben-der-hl-luise-erstauffuehrung/
URL:https://robert-haas.de/events/gestaerkt-befreit-begeistert-lieder-und-texte-zum-leben-der-hl-luise-erstauffuehrung/
END:VEVENT
END:VCALENDAR