BEGIN:VCALENDAR
VERSION:2.0
PRODID:-//eventon.com NONSGML v1.0//EN
CALSCALE:GREGORIAN
METHOD:PUBLISH
BEGIN:VEVENT
UID:69e8468aad10e
DTSTAMP:20260422T035450Z
DTSTART:20200322T150000Z
DTEND:20200322T160000Z
LOCATION:Pfarrkirche St. Theodor\,  Haldenwang HauptstraÃŸe 16
SUMMARY:ACHTUNG! Termin abgesagt - geplant jetzt in 2021 - Klangreisen fÃ¼r die Seele in Haldenwang
DESCRIPTION:Eine Stunde mit Texten und Musik zum TrÃ¤umen und Meditieren bi
 eten Markus Kerber (FlÃ¶ten\,  Saxophone und Klarinette) und Robert Haas (P
 iano) ihren ZuhÃ¶rern an. Eine Stunde\,  in der sie ihre traumhaften Melodi
 en u. a. aus den Bestseller-CDs â€žKlangreisenâ€œ\,  â€žKleine Tafelmusikâ€
 œ (KÃ¶sel-Verlag) und der neuen CD â€žKlangreisen 2â€œ (die fÃ¼r ein[..]\nh
 ttps://robert-haas.de/events/klangreisen-fuer-die-seele-in-haldenwang/
URL:https://robert-haas.de/events/klangreisen-fuer-die-seele-in-haldenwang/
END:VEVENT
END:VCALENDAR